BEGIN:VCALENDAR
VERSION:2.0
PRODID:-//www.rmdc.net//NONSGML kigkonsult.se iCalcreator 2.30.10//
CALSCALE:GREGORIAN
METHOD:PUBLISH
UID:e99d77ff-8d7f-4b95-a93f-b0908d56edf6
X-WR-CALDESC:
X-WR-RELCALID:276993e8cee994edc335efb951a5609a
X-WR-TIMEZONE:America/Denver
BEGIN:VTIMEZONE
TZID:America/Denver
BEGIN:STANDARD
TZNAME:MST
DTSTART:20261101T020000
TZOFFSETFROM:-0600
TZOFFSETTO:-0700
RDATE:20271107T020000
END:STANDARD
BEGIN:DAYLIGHT
TZNAME:MDT
DTSTART:20260308T020000
TZOFFSETFROM:-0700
TZOFFSETTO:-0600
RDATE:20270314T020000
RDATE:20280312T020000
END:DAYLIGHT
END:VTIMEZONE
BEGIN:VEVENT
UID:37d59f4f-ac76-4f9f-b637-4ba770d80ca3
DTSTAMP:20260424T034437Z
DESCRIPTION:
DTSTART;TZID=America/Denver:20270301T130000
DTEND;TZID=America/Denver:20270301T160000
LOCATION:Dance Floor
SUMMARY:Bridge
END:VEVENT
END:VCALENDAR
