BEGIN:VCALENDAR
VERSION:2.0
PRODID:-//www.rmdc.net//NONSGML kigkonsult.se iCalcreator 2.30.10//
CALSCALE:GREGORIAN
METHOD:PUBLISH
UID:07dae716-36ce-46cc-8c84-fd05fb5268c7
X-WR-CALDESC:Join us for a gentle exercise class!
X-WR-RELCALID:d4815e2098f4ebd9fa19363bb98dd16d
X-WR-TIMEZONE:America/Denver
BEGIN:VTIMEZONE
TZID:America/Denver
BEGIN:STANDARD
TZNAME:MST
DTSTART:20261101T020000
TZOFFSETFROM:-0600
TZOFFSETTO:-0700
RDATE:20271107T020000
END:STANDARD
BEGIN:DAYLIGHT
TZNAME:MDT
DTSTART:20270314T020000
TZOFFSETFROM:-0700
TZOFFSETTO:-0600
RDATE:20280312T020000
END:DAYLIGHT
END:VTIMEZONE
BEGIN:VEVENT
UID:d6016df4-42dd-4f7c-8d43-79aa79029ee6
DTSTAMP:20260424T034559Z
DESCRIPTION:Join us for a gentle exercise class!
DTSTART;TZID=America/Denver:20270310T103000
DTEND;TZID=America/Denver:20270310T110000
LOCATION:200 South Cruse\, Helena\, MT 59601 US
SUMMARY:Chi Gong
END:VEVENT
END:VCALENDAR
