BEGIN:VCALENDAR
VERSION:2.0
PRODID:-//www.rmdc.net//NONSGML kigkonsult.se iCalcreator 2.30.10//
CALSCALE:GREGORIAN
METHOD:PUBLISH
UID:cd33f034-7663-43a5-ad74-1790643339ae
X-WR-CALDESC:
X-WR-RELCALID:5de26004ace73c6b732e8d33999ae3dc
X-WR-TIMEZONE:America/Denver
BEGIN:VTIMEZONE
TZID:America/Denver
BEGIN:STANDARD
TZNAME:MST
DTSTART:20261101T020000
TZOFFSETFROM:-0600
TZOFFSETTO:-0700
RDATE:20271107T020000
END:STANDARD
BEGIN:DAYLIGHT
TZNAME:MDT
DTSTART:20270314T020000
TZOFFSETFROM:-0700
TZOFFSETTO:-0600
RDATE:20280312T020000
END:DAYLIGHT
END:VTIMEZONE
BEGIN:VEVENT
UID:a1a872b6-8501-4d34-b72b-a15022fd3043
DTSTAMP:20260424T035410Z
DESCRIPTION:
DTSTART;TZID=America/Denver:20270323T130000
DTEND;TZID=America/Denver:20270323T160000
LOCATION:
SUMMARY:Pinochle
END:VEVENT
END:VCALENDAR
