BEGIN:VCALENDAR
VERSION:2.0
PRODID:-//www.rmdc.net//NONSGML kigkonsult.se iCalcreator 2.30.10//
CALSCALE:GREGORIAN
METHOD:PUBLISH
UID:350f9d46-da0d-48fb-a71f-e7e1c634465a
X-WR-CALDESC:
X-WR-RELCALID:39a96ca572e2487a651febba81aae87d
X-WR-TIMEZONE:America/Denver
BEGIN:VTIMEZONE
TZID:America/Denver
BEGIN:STANDARD
TZNAME:MST
DTSTART:20261101T020000
TZOFFSETFROM:-0600
TZOFFSETTO:-0700
RDATE:20271107T020000
END:STANDARD
BEGIN:DAYLIGHT
TZNAME:MDT
DTSTART:20270314T020000
TZOFFSETFROM:-0700
TZOFFSETTO:-0600
RDATE:20280312T020000
END:DAYLIGHT
END:VTIMEZONE
BEGIN:VEVENT
UID:4a52dbfe-6134-4ddc-9eca-b423fbf83ea8
DTSTAMP:20260424T040123Z
DESCRIPTION:
DTSTART;TZID=America/Denver:20270324T130000
DTEND;TZID=America/Denver:20270324T150000
LOCATION:Dining Room
SUMMARY:Bingo
END:VEVENT
END:VCALENDAR
