BEGIN:VCALENDAR
VERSION:2.0
PRODID:-//www.rmdc.net//NONSGML kigkonsult.se iCalcreator 2.30.10//
CALSCALE:GREGORIAN
METHOD:PUBLISH
UID:cedb9f1d-653f-4292-8f45-21b206df3d31
X-WR-CALDESC:
X-WR-RELCALID:dbf5b8b05fd62393be4199a745cbe705
X-WR-TIMEZONE:America/Denver
BEGIN:VTIMEZONE
TZID:America/Denver
BEGIN:STANDARD
TZNAME:MST
DTSTART:20261101T020000
TZOFFSETFROM:-0600
TZOFFSETTO:-0700
RDATE:20271107T020000
END:STANDARD
BEGIN:DAYLIGHT
TZNAME:MDT
DTSTART:20270314T020000
TZOFFSETFROM:-0700
TZOFFSETTO:-0600
RDATE:20280312T020000
END:DAYLIGHT
END:VTIMEZONE
BEGIN:VEVENT
UID:71fc4b56-9e24-4c47-9516-b591eb8d6393
DTSTAMP:20260424T034944Z
DESCRIPTION:
DTSTART;TZID=America/Denver:20270330T130000
DTEND;TZID=America/Denver:20270330T160000
LOCATION:
SUMMARY:Pinochle
END:VEVENT
END:VCALENDAR
