BEGIN:VCALENDAR
VERSION:2.0
PRODID:-//www.rmdc.net//NONSGML kigkonsult.se iCalcreator 2.30.10//
CALSCALE:GREGORIAN
METHOD:PUBLISH
UID:5358b996-c0cb-4521-9b2b-c1a168c50e11
X-WR-CALDESC:
X-WR-RELCALID:51908861db5ca7842f4710c3f440b39a
X-WR-TIMEZONE:America/Denver
BEGIN:VTIMEZONE
TZID:America/Denver
BEGIN:STANDARD
TZNAME:MST
DTSTART:20261101T020000
TZOFFSETFROM:-0600
TZOFFSETTO:-0700
RDATE:20271107T020000
END:STANDARD
BEGIN:DAYLIGHT
TZNAME:MDT
DTSTART:20270314T020000
TZOFFSETFROM:-0700
TZOFFSETTO:-0600
RDATE:20280312T020000
END:DAYLIGHT
END:VTIMEZONE
BEGIN:VEVENT
UID:13fbc70b-f8e3-49ff-bdce-6ef4588645cf
DTSTAMP:20260424T050546Z
DESCRIPTION:
DTSTART;TZID=America/Denver:20270406T130000
DTEND;TZID=America/Denver:20270406T160000
LOCATION:
SUMMARY:Pinochle
END:VEVENT
END:VCALENDAR
