BEGIN:VCALENDAR
VERSION:2.0
PRODID:-//www.rmdc.net//NONSGML kigkonsult.se iCalcreator 2.30.10//
CALSCALE:GREGORIAN
METHOD:PUBLISH
UID:397583bf-56a5-415d-a273-72ab42f54510
X-WR-CALDESC:
X-WR-RELCALID:b769f6ee382c6066e29fb600d295e8a0
X-WR-TIMEZONE:America/Denver
BEGIN:VTIMEZONE
TZID:America/Denver
BEGIN:STANDARD
TZNAME:MST
DTSTART:20261101T020000
TZOFFSETFROM:-0600
TZOFFSETTO:-0700
RDATE:20271107T020000
END:STANDARD
BEGIN:DAYLIGHT
TZNAME:MDT
DTSTART:20270314T020000
TZOFFSETFROM:-0700
TZOFFSETTO:-0600
RDATE:20280312T020000
END:DAYLIGHT
END:VTIMEZONE
BEGIN:VEVENT
UID:21c365ad-8d32-47da-9577-25b4e9cbad14
DTSTAMP:20260424T050544Z
DESCRIPTION:
DTSTART;TZID=America/Denver:20270415T130000
DTEND;TZID=America/Denver:20270415T150000
LOCATION:Neighborhood Center Dance Floor
SUMMARY:Wood Carving
END:VEVENT
END:VCALENDAR
