BEGIN:VCALENDAR
VERSION:2.0
PRODID:-//www.rmdc.net//NONSGML kigkonsult.se iCalcreator 2.30.10//
CALSCALE:GREGORIAN
METHOD:PUBLISH
UID:e1a55a97-2461-4057-8a7d-5eb9bc28ddb9
X-WR-CALDESC:
X-WR-RELCALID:fdc8994fdb7a117fa384972475722679
X-WR-TIMEZONE:America/Denver
BEGIN:VTIMEZONE
TZID:America/Denver
BEGIN:STANDARD
TZNAME:MST
DTSTART:20261101T020000
TZOFFSETFROM:-0600
TZOFFSETTO:-0700
RDATE:20271107T020000
END:STANDARD
BEGIN:DAYLIGHT
TZNAME:MDT
DTSTART:20270314T020000
TZOFFSETFROM:-0700
TZOFFSETTO:-0600
RDATE:20280312T020000
END:DAYLIGHT
END:VTIMEZONE
BEGIN:VEVENT
UID:4d03d371-f2d5-4e14-a8c0-9d381c9e3fa4
DTSTAMP:20260424T050529Z
DESCRIPTION:
DTSTART;TZID=America/Denver:20270420T130000
DTEND;TZID=America/Denver:20270420T160000
LOCATION:
SUMMARY:Pinochle
END:VEVENT
END:VCALENDAR
