BEGIN:VCALENDAR
VERSION:2.0
PRODID:-//www.rmdc.net//NONSGML kigkonsult.se iCalcreator 2.30.10//
CALSCALE:GREGORIAN
METHOD:PUBLISH
UID:e61d2063-8c80-4e31-9276-d6b88530577f
X-WR-CALDESC:
X-WR-RELCALID:0a2140845d44b0b8a0a69486ad693fd4
X-WR-TIMEZONE:America/Denver
BEGIN:VTIMEZONE
TZID:America/Denver
BEGIN:STANDARD
TZNAME:MST
DTSTART:20261101T020000
TZOFFSETFROM:-0600
TZOFFSETTO:-0700
RDATE:20271107T020000
END:STANDARD
BEGIN:DAYLIGHT
TZNAME:MDT
DTSTART:20270314T020000
TZOFFSETFROM:-0700
TZOFFSETTO:-0600
RDATE:20280312T020000
END:DAYLIGHT
END:VTIMEZONE
BEGIN:VEVENT
UID:c44f7be9-68ee-4510-a9d8-a8bb122abed0
DTSTAMP:20260424T062801Z
DESCRIPTION:
DTSTART;TZID=America/Denver:20270504T130000
DTEND;TZID=America/Denver:20270504T150000
LOCATION:Rocky Neighborhood Center Dance Floor
SUMMARY:Bridge
END:VEVENT
END:VCALENDAR
