BEGIN:VCALENDAR
VERSION:2.0
PRODID:-//www.rmdc.net//NONSGML kigkonsult.se iCalcreator 2.30.10//
CALSCALE:GREGORIAN
METHOD:PUBLISH
UID:ee9f6ad6-3235-4126-8dfa-f03358b47488
X-WR-CALDESC:
X-WR-RELCALID:a585116b91dbf58ebc433fcdbdcccf3c
X-WR-TIMEZONE:America/Denver
BEGIN:VTIMEZONE
TZID:America/Denver
BEGIN:STANDARD
TZNAME:MST
DTSTART:20261101T020000
TZOFFSETFROM:-0600
TZOFFSETTO:-0700
RDATE:20271107T020000
END:STANDARD
BEGIN:DAYLIGHT
TZNAME:MDT
DTSTART:20270314T020000
TZOFFSETFROM:-0700
TZOFFSETTO:-0600
RDATE:20280312T020000
END:DAYLIGHT
END:VTIMEZONE
BEGIN:VEVENT
UID:15879e53-8d8f-4dc0-ad96-3cf89eeac8ea
DTSTAMP:20260424T062930Z
DESCRIPTION:
DTSTART;TZID=America/Denver:20270504T130000
DTEND;TZID=America/Denver:20270504T160000
LOCATION:
SUMMARY:Pinochle
END:VEVENT
END:VCALENDAR
