BEGIN:VCALENDAR
VERSION:2.0
PRODID:-//www.rmdc.net//NONSGML kigkonsult.se iCalcreator 2.30.10//
CALSCALE:GREGORIAN
METHOD:PUBLISH
UID:3071bab3-eb95-41b6-9b52-6b72a9d3ec3e
X-WR-CALDESC:
X-WR-RELCALID:6a243912e2dc0a10c6f64e0563eb9d7b
X-WR-TIMEZONE:America/Denver
BEGIN:VTIMEZONE
TZID:America/Denver
BEGIN:STANDARD
TZNAME:MST
DTSTART:20261101T020000
TZOFFSETFROM:-0600
TZOFFSETTO:-0700
RDATE:20271107T020000
RDATE:20281105T020000
END:STANDARD
BEGIN:DAYLIGHT
TZNAME:MDT
DTSTART:20270314T020000
TZOFFSETFROM:-0700
TZOFFSETTO:-0600
RDATE:20280312T020000
END:DAYLIGHT
END:VTIMEZONE
BEGIN:VEVENT
UID:6593194a-470d-4f22-8756-f65f3ff4dbcc
DTSTAMP:20260424T110035Z
DESCRIPTION:
DTSTART;TZID=America/Denver:20270817T130000
DTEND;TZID=America/Denver:20270817T160000
LOCATION:
SUMMARY:Pinochle
END:VEVENT
END:VCALENDAR
