BEGIN:VCALENDAR
VERSION:2.0
PRODID:-//www.rmdc.net//NONSGML kigkonsult.se iCalcreator 2.30.10//
CALSCALE:GREGORIAN
METHOD:PUBLISH
UID:1f704ccb-c663-4d11-8223-c9e9d58975a4
X-WR-CALDESC:
X-WR-RELCALID:0125dd9f23253393a32ce73092d87708
X-WR-TIMEZONE:America/Denver
BEGIN:VTIMEZONE
TZID:America/Denver
BEGIN:STANDARD
TZNAME:MST
DTSTART:20261101T020000
TZOFFSETFROM:-0600
TZOFFSETTO:-0700
RDATE:20271107T020000
RDATE:20281105T020000
END:STANDARD
BEGIN:DAYLIGHT
TZNAME:MDT
DTSTART:20270314T020000
TZOFFSETFROM:-0700
TZOFFSETTO:-0600
RDATE:20280312T020000
END:DAYLIGHT
END:VTIMEZONE
BEGIN:VEVENT
UID:c1dc2fe6-2bc0-45db-a1f8-12bc3ecba418
DTSTAMP:20260424T110008Z
DESCRIPTION:
DTSTART;TZID=America/Denver:20270824T130000
DTEND;TZID=America/Denver:20270824T160000
LOCATION:
SUMMARY:Pinochle
END:VEVENT
END:VCALENDAR
