BEGIN:VCALENDAR
VERSION:2.0
PRODID:-//www.rmdc.net//NONSGML kigkonsult.se iCalcreator 2.30.10//
CALSCALE:GREGORIAN
METHOD:PUBLISH
UID:19da3854-673f-4d6b-b5de-d091feba74f5
X-WR-CALDESC:
X-WR-RELCALID:ad878d1b1370e90f354bae6c5ee884e8
X-WR-TIMEZONE:America/Denver
BEGIN:VTIMEZONE
TZID:America/Denver
BEGIN:STANDARD
TZNAME:MST
DTSTART:20261101T020000
TZOFFSETFROM:-0600
TZOFFSETTO:-0700
RDATE:20271107T020000
RDATE:20281105T020000
END:STANDARD
BEGIN:DAYLIGHT
TZNAME:MDT
DTSTART:20270314T020000
TZOFFSETFROM:-0700
TZOFFSETTO:-0600
RDATE:20280312T020000
END:DAYLIGHT
END:VTIMEZONE
BEGIN:VEVENT
UID:d709f3aa-386b-4c6b-9b4f-4459d11968f6
DTSTAMP:20260424T104925Z
DESCRIPTION:
DTSTART;TZID=America/Denver:20270830T130000
DTEND;TZID=America/Denver:20270830T160000
LOCATION:Dance Floor
SUMMARY:Bridge
END:VEVENT
END:VCALENDAR
