BEGIN:VCALENDAR
VERSION:2.0
PRODID:-//www.rmdc.net//NONSGML kigkonsult.se iCalcreator 2.30.10//
CALSCALE:GREGORIAN
METHOD:PUBLISH
UID:9f9a3802-2a21-4da6-b1f7-c1a3da15e434
X-WR-CALDESC:
X-WR-RELCALID:458566c91d52ea7b4f39048bfd28685d
X-WR-TIMEZONE:America/Denver
BEGIN:VTIMEZONE
TZID:America/Denver
BEGIN:STANDARD
TZNAME:MST
DTSTART:20261101T020000
TZOFFSETFROM:-0600
TZOFFSETTO:-0700
RDATE:20271107T020000
RDATE:20281105T020000
END:STANDARD
BEGIN:DAYLIGHT
TZNAME:MDT
DTSTART:20270314T020000
TZOFFSETFROM:-0700
TZOFFSETTO:-0600
RDATE:20280312T020000
RDATE:20290311T020000
END:DAYLIGHT
END:VTIMEZONE
BEGIN:VEVENT
UID:344472a7-fb87-43a3-9da4-4e3c8fea236a
DTSTAMP:20260424T121529Z
DESCRIPTION:
DTSTART;TZID=America/Denver:20270921T130000
DTEND;TZID=America/Denver:20270921T160000
LOCATION:
SUMMARY:Pinochle
END:VEVENT
END:VCALENDAR
