BEGIN:VCALENDAR
VERSION:2.0
PRODID:-//www.rmdc.net//NONSGML kigkonsult.se iCalcreator 2.30.10//
CALSCALE:GREGORIAN
METHOD:PUBLISH
UID:5741ef01-9f0a-4ae7-8bb9-25336dd83f2d
X-WR-CALDESC:
X-WR-RELCALID:79673d9109e313a55188edbf974d4043
X-WR-TIMEZONE:America/Denver
BEGIN:VTIMEZONE
TZID:America/Denver
BEGIN:STANDARD
TZNAME:MST
DTSTART:20261101T020000
TZOFFSETFROM:-0600
TZOFFSETTO:-0700
RDATE:20271107T020000
RDATE:20281105T020000
END:STANDARD
BEGIN:DAYLIGHT
TZNAME:MDT
DTSTART:20270314T020000
TZOFFSETFROM:-0700
TZOFFSETTO:-0600
RDATE:20280312T020000
RDATE:20290311T020000
END:DAYLIGHT
END:VTIMEZONE
BEGIN:VEVENT
UID:56067e47-eec2-485a-be7a-44bc002fa901
DTSTAMP:20260424T121758Z
DESCRIPTION:
DTSTART;TZID=America/Denver:20270928T130000
DTEND;TZID=America/Denver:20270928T160000
LOCATION:
SUMMARY:Pinochle
END:VEVENT
END:VCALENDAR
