BEGIN:VCALENDAR
VERSION:2.0
PRODID:-//www.rmdc.net//NONSGML kigkonsult.se iCalcreator 2.30.10//
CALSCALE:GREGORIAN
METHOD:PUBLISH
UID:3b35fb8f-36fe-47d4-aa73-c9c602596980
X-WR-CALDESC:Join us for a gentle exercise class!
X-WR-RELCALID:e516e4625cabad4d75f5577b9f0a57ed
X-WR-TIMEZONE:America/Denver
BEGIN:VTIMEZONE
TZID:America/Denver
BEGIN:STANDARD
TZNAME:MST
DTSTART:20271107T020000
TZOFFSETFROM:-0600
TZOFFSETTO:-0700
RDATE:20281105T020000
END:STANDARD
BEGIN:DAYLIGHT
TZNAME:MDT
DTSTART:20270314T020000
TZOFFSETFROM:-0700
TZOFFSETTO:-0600
RDATE:20280312T020000
RDATE:20290311T020000
END:DAYLIGHT
END:VTIMEZONE
BEGIN:VEVENT
UID:52f6b78b-80a5-45d1-a50f-3e6678936e23
DTSTAMP:20260424T161412Z
DESCRIPTION:Join us for a gentle exercise class!
DTSTART;TZID=America/Denver:20271208T103000
DTEND;TZID=America/Denver:20271208T110000
LOCATION:200 South Cruse\, Helena\, MT 59601 US
SUMMARY:Chi Gong
END:VEVENT
END:VCALENDAR
