BEGIN:VCALENDAR
VERSION:2.0
PRODID:-//www.rmdc.net//NONSGML kigkonsult.se iCalcreator 2.30.10//
CALSCALE:GREGORIAN
METHOD:PUBLISH
UID:9b5c31c4-db05-4687-80d0-c2bbb95d4e06
X-WR-CALDESC:Join us to watch experts discuss falls prevention during Covid
 -19.
X-WR-RELCALID:c14f718afea1f5660c09fead472a7a3a
X-WR-TIMEZONE:America/Denver
BEGIN:VTIMEZONE
TZID:America/Denver
BEGIN:STANDARD
TZNAME:MST
DTSTART:20191103T020000
TZOFFSETFROM:-0600
TZOFFSETTO:-0700
RDATE:20201101T020000
RDATE:20211107T020000
END:STANDARD
BEGIN:DAYLIGHT
TZNAME:MDT
DTSTART:20200308T020000
TZOFFSETFROM:-0700
TZOFFSETTO:-0600
RDATE:20210314T020000
RDATE:20220313T020000
END:DAYLIGHT
END:VTIMEZONE
BEGIN:VEVENT
UID:9b126eac-0f1e-4462-babe-6dc5ba24de53
DTSTAMP:20260425T194628Z
DESCRIPTION:Join us to watch experts discuss falls prevention during Covid-
 19.
DTSTART;TZID=America/Denver:20200923T163000
DTEND;TZID=America/Denver:20200923T173000
LOCATION:https://www.facebook.com/NCOAging/
SUMMARY:Falls Free Checkup (English)
END:VEVENT
END:VCALENDAR
