BEGIN:VCALENDAR
VERSION:2.0
PRODID:-//www.rmdc.net//NONSGML kigkonsult.se iCalcreator 2.30.10//
CALSCALE:GREGORIAN
METHOD:PUBLISH
UID:f5852440-946c-42a5-8425-0718148f8fac
X-WR-CALDESC:Cue the hilaribad ugly sweaters and tacky\, wacky pants—’tis t
 he season to dance. We’re coming together to ignite our senses in a livest
 ream wonderland of twinkling lights\, and you’re invited.
X-WR-RELCALID:13e39ec51b25f595b1590e25d4e2428d
X-WR-TIMEZONE:America/Denver
BEGIN:VTIMEZONE
TZID:America/Denver
BEGIN:STANDARD
TZNAME:MST
DTSTART:20201101T020000
TZOFFSETFROM:-0600
TZOFFSETTO:-0700
RDATE:20211107T020000
END:STANDARD
BEGIN:DAYLIGHT
TZNAME:MDT
DTSTART:20200308T020000
TZOFFSETFROM:-0700
TZOFFSETTO:-0600
RDATE:20210314T020000
RDATE:20220313T020000
END:DAYLIGHT
END:VTIMEZONE
BEGIN:VEVENT
UID:6f28ba9c-6ba6-46f2-8302-108766501bc5
DTSTAMP:20260425T153250Z
DESCRIPTION:Cue the hilaribad ugly sweaters and tacky\, wacky pants—’tis th
 e season to dance. We’re coming together to ignite our senses in a livestr
 eam wonderland of twinkling lights\, and you’re invited.
DTSTART;TZID=America/Denver:20201219T090000
DTEND;TZID=America/Denver:20201219T100000
LOCATION:https://www.daybreaker.com/city/live/
SUMMARY:AARP Daybreaker Live: 'Tis the Season to Dance
END:VEVENT
END:VCALENDAR
