BEGIN:VCALENDAR
VERSION:2.0
PRODID:-//www.rmdc.net//NONSGML kigkonsult.se iCalcreator 2.30.10//
CALSCALE:GREGORIAN
METHOD:PUBLISH
UID:8152dfa9-1594-4af9-94e7-f8cae9999516
X-WR-CALDESC:Join AARP Montana for a free\, home screening of the film Sky 
 Blossom. This heart-touching\, compelling documentary is a raw\, candid lo
 ok at teens and young adults providing care for a Veteran parent or grandp
 arent.\n\nCaring for family with tough medical conditions\, these caregive
 rs perform tasks at home typically performed only in hospitals.\n\nThey ar
 e cheerleaders\, work part time\, and go to college – but also live double
  lives – quietly growing up as America’s next greatest generation by provi
 ding love and care to family members in need.\n
X-WR-RELCALID:f82b4a43b671e69efbcb6c7d098739fa
X-WR-TIMEZONE:America/Denver
BEGIN:VTIMEZONE
TZID:America/Denver
BEGIN:STANDARD
TZNAME:MST
DTSTART:20201101T020000
TZOFFSETFROM:-0600
TZOFFSETTO:-0700
RDATE:20211107T020000
END:STANDARD
BEGIN:DAYLIGHT
TZNAME:MDT
DTSTART:20210314T020000
TZOFFSETFROM:-0700
TZOFFSETTO:-0600
RDATE:20220313T020000
END:DAYLIGHT
END:VTIMEZONE
BEGIN:VEVENT
UID:dd21e250-5c39-4bf4-8a0b-ebdb2e371f28
DTSTAMP:20260425T105059Z
DESCRIPTION:Join AARP Montana for a free\, home screening of the film Sky B
 lossom. This heart-touching\, compelling documentary is a raw\, candid loo
 k at teens and young adults providing care for a Veteran parent or grandpa
 rent.\n\nCaring for family with tough medical conditions\, these caregiver
 s perform tasks at home typically performed only in hospitals.\n\nThey are
  cheerleaders\, work part time\, and go to college – but also live double 
 lives – quietly growing up as America’s next greatest generation by provid
 ing love and care to family members in need.\n
DTSTART;TZID=America/Denver:20210318T200000
DTEND;TZID=America/Denver:20210318T210000
LOCATION:https://onlinexperiences.com/scripts/Server.nxp?LASCmd=AI:4\;F:QS!
 10100&ShowUUID=0DF0AA26-3451-40CB-9D62-B90720647B17
SUMMARY:AARP & Sky Blossom: The Alvarado Family
END:VEVENT
END:VCALENDAR
