BEGIN:VCALENDAR
VERSION:2.0
PRODID:-//www.rmdc.net//NONSGML kigkonsult.se iCalcreator 2.30.10//
CALSCALE:GREGORIAN
METHOD:PUBLISH
UID:b3483925-b97c-46e4-a492-6eaa1d562e17
X-WR-CALDESC:
X-WR-RELCALID:824f65dcf2960880d27e5ff4d6b00290
X-WR-TIMEZONE:America/Denver
BEGIN:VTIMEZONE
TZID:America/Denver
BEGIN:STANDARD
TZNAME:MST
DTSTART:20201101T020000
TZOFFSETFROM:-0600
TZOFFSETTO:-0700
RDATE:20211107T020000
RDATE:20221106T020000
END:STANDARD
BEGIN:DAYLIGHT
TZNAME:MDT
DTSTART:20210314T020000
TZOFFSETFROM:-0700
TZOFFSETTO:-0600
RDATE:20220313T020000
END:DAYLIGHT
END:VTIMEZONE
BEGIN:VEVENT
UID:afaeea83-72a6-46c5-bbe0-09cee7f47a8c
DTSTAMP:20260425T031931Z
DESCRIPTION:
DTSTART;TZID=America/Denver:20210819T130000
DTEND;TZID=America/Denver:20210819T150000
LOCATION:Card Room
SUMMARY:Powerful Tools for Caregivers
END:VEVENT
END:VCALENDAR
