BEGIN:VCALENDAR
VERSION:2.0
PRODID:-//www.rmdc.net//NONSGML kigkonsult.se iCalcreator 2.30.10//
CALSCALE:GREGORIAN
METHOD:PUBLISH
UID:b4f65fe3-90d8-4b75-a03e-a14cdb1ce586
X-WR-CALDESC:
X-WR-RELCALID:a87ae719d4f01ebe71c88ef9f90bb85a
X-WR-TIMEZONE:America/Denver
BEGIN:VTIMEZONE
TZID:America/Denver
BEGIN:STANDARD
TZNAME:MST
DTSTART:20201101T020000
TZOFFSETFROM:-0600
TZOFFSETTO:-0700
RDATE:20211107T020000
RDATE:20221106T020000
END:STANDARD
BEGIN:DAYLIGHT
TZNAME:MDT
DTSTART:20210314T020000
TZOFFSETFROM:-0700
TZOFFSETTO:-0600
RDATE:20220313T020000
RDATE:20230312T020000
END:DAYLIGHT
END:VTIMEZONE
BEGIN:VEVENT
UID:2a5de71c-fb14-4712-b99e-76c724005aa6
DTSTAMP:20260425T004738Z
DESCRIPTION:
DTSTART;TZID=America/Denver:20211005T123000
DTEND;TZID=America/Denver:20211005T143000
LOCATION:Helena Senior Center Parlor
SUMMARY:Hand and Foot
END:VEVENT
END:VCALENDAR
