BEGIN:VCALENDAR
VERSION:2.0
PRODID:-//www.rmdc.net//NONSGML kigkonsult.se iCalcreator 2.30.10//
CALSCALE:GREGORIAN
METHOD:PUBLISH
UID:7319f9fd-65b4-4ced-b9c2-6d292a5da316
X-WR-CALDESC:
X-WR-RELCALID:e4553d3fc5dff3a11fd0db6da17cf1ba
X-WR-TIMEZONE:America/Denver
BEGIN:VTIMEZONE
TZID:America/Denver
BEGIN:STANDARD
TZNAME:MST
DTSTART:20211107T020000
TZOFFSETFROM:-0600
TZOFFSETTO:-0700
RDATE:20221106T020000
END:STANDARD
BEGIN:DAYLIGHT
TZNAME:MDT
DTSTART:20210314T020000
TZOFFSETFROM:-0700
TZOFFSETTO:-0600
RDATE:20220313T020000
RDATE:20230312T020000
END:DAYLIGHT
END:VTIMEZONE
BEGIN:VEVENT
UID:7a89c7bf-d702-4ab9-a553-a4a68ec2cb64
DTSTAMP:20260424T231913Z
DESCRIPTION:
DTSTART;TZID=America/Denver:20211109T170000
DTEND;TZID=America/Denver:20211109T180000
LOCATION:Comprehensive Community Needs Forum
SUMMARY:Boulder Community Forum
END:VEVENT
END:VCALENDAR
