BEGIN:VCALENDAR
VERSION:2.0
PRODID:-//www.rmdc.net//NONSGML kigkonsult.se iCalcreator 2.30.10//
CALSCALE:GREGORIAN
METHOD:PUBLISH
UID:c5217da7-fb6f-4c9c-bf39-6e5c7fe4b49d
X-WR-CALDESC:
X-WR-RELCALID:5a7f14d11b4c1103c0baaa850e3ecc2e
X-WR-TIMEZONE:America/Denver
BEGIN:VTIMEZONE
TZID:America/Denver
BEGIN:STANDARD
TZNAME:MST
DTSTART:20211107T020000
TZOFFSETFROM:-0600
TZOFFSETTO:-0700
RDATE:20221106T020000
END:STANDARD
BEGIN:DAYLIGHT
TZNAME:MDT
DTSTART:20210314T020000
TZOFFSETFROM:-0700
TZOFFSETTO:-0600
RDATE:20220313T020000
RDATE:20230312T020000
END:DAYLIGHT
END:VTIMEZONE
BEGIN:VEVENT
UID:5f117641-0a60-4e63-a013-0a5a508c5c1a
DTSTAMP:20260424T204624Z
DESCRIPTION:
DTSTART;TZID=America/Denver:20220120T080000
DTEND;TZID=America/Denver:20220120T093000
LOCATION:200 South Cruse\, Helena\, MT 59601 US
SUMMARY:Coffee and Rolls
END:VEVENT
END:VCALENDAR
