BEGIN:VCALENDAR
VERSION:2.0
PRODID:-//www.rmdc.net//NONSGML kigkonsult.se iCalcreator 2.30.10//
CALSCALE:GREGORIAN
METHOD:PUBLISH
UID:3ef18882-d9d9-4a93-98d7-61843a270a9d
X-WR-CALDESC:
X-WR-RELCALID:4aef89d4458e93b83083ada3bc2c1fa9
X-WR-TIMEZONE:America/Denver
BEGIN:VTIMEZONE
TZID:America/Denver
BEGIN:STANDARD
TZNAME:MST
DTSTART:20211107T020000
TZOFFSETFROM:-0600
TZOFFSETTO:-0700
RDATE:20221106T020000
END:STANDARD
BEGIN:DAYLIGHT
TZNAME:MDT
DTSTART:20210314T020000
TZOFFSETFROM:-0700
TZOFFSETTO:-0600
RDATE:20220313T020000
RDATE:20230312T020000
END:DAYLIGHT
END:VTIMEZONE
BEGIN:VEVENT
UID:4307a1da-395e-462b-9def-17bb24b52073
DTSTAMP:20260424T192905Z
DESCRIPTION:
DTSTART;TZID=America/Denver:20220209T120000
DTEND;TZID=America/Denver:20220209T130000
LOCATION:https://us06web.zoom.us/j/92257979620?pwd=Wmc1aFlrU2trU1hwMFo4UkNI
 cmxZQT09
SUMMARY:PopKnowledge! Presents RECYCLING with Kim from the City of Helena
END:VEVENT
END:VCALENDAR
