BEGIN:VCALENDAR
VERSION:2.0
PRODID:-//www.rmdc.net//NONSGML kigkonsult.se iCalcreator 2.30.10//
CALSCALE:GREGORIAN
METHOD:PUBLISH
UID:a45359c4-3376-4ca9-b58e-fdc03eb8c907
X-WR-CALDESC:February will feature a Presidential Spotlight\, just in time 
 for Presidents’ Day! Jeff Bartos from the Montana Historical Society will 
 join us and present on Herbert Hoover\, and his life before his presidency
 . It’s sure to be an interesting presentation! Join us February 16 at 9:15
  to learn about the 31st President of the United States!
X-WR-RELCALID:a65a963f12c296beb2acb42c964417f9
X-WR-TIMEZONE:America/Denver
BEGIN:VTIMEZONE
TZID:America/Denver
BEGIN:STANDARD
TZNAME:MST
DTSTART:20211107T020000
TZOFFSETFROM:-0600
TZOFFSETTO:-0700
RDATE:20221106T020000
END:STANDARD
BEGIN:DAYLIGHT
TZNAME:MDT
DTSTART:20210314T020000
TZOFFSETFROM:-0700
TZOFFSETTO:-0600
RDATE:20220313T020000
RDATE:20230312T020000
END:DAYLIGHT
END:VTIMEZONE
BEGIN:VEVENT
UID:cebdc779-a1a1-4118-8b27-8bbf6c88bd7d
DTSTAMP:20260424T192627Z
DESCRIPTION:February will feature a Presidential Spotlight\, just in time f
 or Presidents’ Day! Jeff Bartos from the Montana Historical Society will j
 oin us and present on Herbert Hoover\, and his life before his presidency.
  It’s sure to be an interesting presentation! Join us February 16 at 9:15 
 to learn about the 31st President of the United States!
DTSTART;TZID=America/Denver:20220216T093000
DTEND;TZID=America/Denver:20220216T110000
LOCATION:
SUMMARY:Memory Cafè with Jeff Bartos from the Montana Historical Society
END:VEVENT
END:VCALENDAR
