BEGIN:VCALENDAR
VERSION:2.0
PRODID:-//www.rmdc.net//NONSGML kigkonsult.se iCalcreator 2.30.10//
CALSCALE:GREGORIAN
METHOD:PUBLISH
UID:05155ad0-63bf-40ab-b4e8-182f019a1ffe
X-WR-CALDESC:
X-WR-RELCALID:9273974448c4d245b72367906ed02eb1
X-WR-TIMEZONE:America/Denver
BEGIN:VTIMEZONE
TZID:America/Denver
BEGIN:STANDARD
TZNAME:MST
DTSTART:20211107T020000
TZOFFSETFROM:-0600
TZOFFSETTO:-0700
RDATE:20221106T020000
END:STANDARD
BEGIN:DAYLIGHT
TZNAME:MDT
DTSTART:20210314T020000
TZOFFSETFROM:-0700
TZOFFSETTO:-0600
RDATE:20220313T020000
RDATE:20230312T020000
END:DAYLIGHT
END:VTIMEZONE
BEGIN:VEVENT
UID:da8b7658-2969-4830-9574-5321c02de50d
DTSTAMP:20260424T192827Z
DESCRIPTION:
DTSTART;TZID=America/Denver:20220223T120000
DTEND;TZID=America/Denver:20220223T130000
LOCATION:https://us06web.zoom.us/j/92257979620?pwd=Wmc1aFlrU2trU1hwMFo4UkNI
 cmxZQT09
SUMMARY:PopKnowledge! Presents 'A Few of My Favorite Stories'
END:VEVENT
END:VCALENDAR
