BEGIN:VCALENDAR
VERSION:2.0
PRODID:-//www.rmdc.net//NONSGML kigkonsult.se iCalcreator 2.30.10//
CALSCALE:GREGORIAN
METHOD:PUBLISH
UID:674c5ca3-f458-4985-addd-478c563087c0
X-WR-CALDESC:
X-WR-RELCALID:a16ee8866c2ce75be06c85cd57da82ed
X-WR-TIMEZONE:America/Denver
BEGIN:VTIMEZONE
TZID:America/Denver
BEGIN:STANDARD
TZNAME:MST
DTSTART:20211107T020000
TZOFFSETFROM:-0600
TZOFFSETTO:-0700
RDATE:20221106T020000
END:STANDARD
BEGIN:DAYLIGHT
TZNAME:MDT
DTSTART:20220313T020000
TZOFFSETFROM:-0700
TZOFFSETTO:-0600
RDATE:20230312T020000
END:DAYLIGHT
END:VTIMEZONE
BEGIN:VEVENT
UID:9e617aa8-b708-48ce-a82b-0a2b8935c98b
DTSTAMP:20260424T180629Z
DESCRIPTION:
DTSTART;TZID=America/Denver:20220316T130000
DTEND;TZID=America/Denver:20220316T150000
LOCATION:Dining Room
SUMMARY:Bingo
END:VEVENT
END:VCALENDAR
