BEGIN:VCALENDAR
VERSION:2.0
PRODID:-//www.rmdc.net//NONSGML kigkonsult.se iCalcreator 2.30.10//
CALSCALE:GREGORIAN
METHOD:PUBLISH
UID:24f78c07-b49a-4a5f-8234-408076973677
X-WR-CALDESC:
X-WR-RELCALID:43c61d09c0c70e4098b129691912c295
X-WR-TIMEZONE:America/Denver
BEGIN:VTIMEZONE
TZID:America/Denver
BEGIN:STANDARD
TZNAME:MST
DTSTART:20211107T020000
TZOFFSETFROM:-0600
TZOFFSETTO:-0700
RDATE:20221106T020000
END:STANDARD
BEGIN:DAYLIGHT
TZNAME:MDT
DTSTART:20220313T020000
TZOFFSETFROM:-0700
TZOFFSETTO:-0600
RDATE:20230312T020000
END:DAYLIGHT
END:VTIMEZONE
BEGIN:VEVENT
UID:ca429af9-316e-48f3-a4c5-a4d2bf219be7
DTSTAMP:20260424T181023Z
DESCRIPTION:
DTSTART;TZID=America/Denver:20220323T120000
DTEND;TZID=America/Denver:20220323T130000
LOCATION:https://us06web.zoom.us/j/92257979620?pwd=Wmc1aFlrU2trU1hwMFo4UkNI
 cmxZQT09
SUMMARY:PopKnowledge! Presents 'Montana Wildflowers: Food and Medicine'
END:VEVENT
END:VCALENDAR
