BEGIN:VCALENDAR
VERSION:2.0
PRODID:-//www.rmdc.net//NONSGML kigkonsult.se iCalcreator 2.30.10//
CALSCALE:GREGORIAN
METHOD:PUBLISH
UID:cc54b931-e0cd-4705-93b7-f8cdbe7bad48
X-WR-CALDESC:Powerful Tools for Caregivers begins Tuesday\, October 18\, an
 d runs through Tuesday\, November 22.  Taught by certified instructors fro
 m Rocky's Agency on Aging\, Powerful Tools for Caregivers is an evidence-b
 ased class that will be held in the Card Room of the Helena Senior Center 
 from 10 am to 11:30 am.  To learn more\, contact Michele Mathot by phone a
 t (406) 441-3985 or by email at mmathot@rmdc.net.
X-WR-RELCALID:b80bc0558b3d62c6cd368ac5ee89ef56
X-WR-TIMEZONE:America/Denver
BEGIN:VTIMEZONE
TZID:America/Denver
BEGIN:STANDARD
TZNAME:MST
DTSTART:20211107T020000
TZOFFSETFROM:-0600
TZOFFSETTO:-0700
RDATE:20221106T020000
RDATE:20231105T020000
END:STANDARD
BEGIN:DAYLIGHT
TZNAME:MDT
DTSTART:20220313T020000
TZOFFSETFROM:-0700
TZOFFSETTO:-0600
RDATE:20230312T020000
RDATE:20240310T020000
END:DAYLIGHT
END:VTIMEZONE
BEGIN:VEVENT
UID:3ad857a1-34f1-4a72-9ac4-bea414d9f29a
DTSTAMP:20260422T203205Z
DESCRIPTION:Powerful Tools for Caregivers begins Tuesday\, October 18\, and
  runs through Tuesday\, November 22.  Taught by certified instructors from
  Rocky's Agency on Aging\, Powerful Tools for Caregivers is an evidence-ba
 sed class that will be held in the Card Room of the Helena Senior Center f
 rom 10 am to 11:30 am.  To learn more\, contact Michele Mathot by phone at
  (406) 441-3985 or by email at mmathot@rmdc.net.
DTSTART;TZID=America/Denver:20221018T100000
DTEND;TZID=America/Denver:20221018T113000
LOCATION:
SUMMARY:Powerful Tools for Caregivers
END:VEVENT
END:VCALENDAR
