BEGIN:VCALENDAR
VERSION:2.0
PRODID:-//www.rmdc.net//NONSGML kigkonsult.se iCalcreator 2.30.10//
CALSCALE:GREGORIAN
METHOD:PUBLISH
UID:6b32c5bb-5be4-4205-834e-82c70d05407b
X-WR-CALDESC:
X-WR-RELCALID:b2c459b005d82a9e14ce5dbc078e2519
X-WR-TIMEZONE:America/Denver
BEGIN:VTIMEZONE
TZID:America/Denver
BEGIN:STANDARD
TZNAME:MST
DTSTART:20211107T020000
TZOFFSETFROM:-0600
TZOFFSETTO:-0700
RDATE:20221106T020000
RDATE:20231105T020000
END:STANDARD
BEGIN:DAYLIGHT
TZNAME:MDT
DTSTART:20220313T020000
TZOFFSETFROM:-0700
TZOFFSETTO:-0600
RDATE:20230312T020000
RDATE:20240310T020000
END:DAYLIGHT
END:VTIMEZONE
BEGIN:VEVENT
UID:be126f01-392b-47f6-af8e-7f7b39467940
DTSTAMP:20260422T203410Z
DESCRIPTION:
DTSTART;TZID=America/Denver:20221020T000000
DTEND;TZID=America/Denver:20221020T235900
LOCATION:
SUMMARY:Backroads of Montana
END:VEVENT
END:VCALENDAR
