BEGIN:VCALENDAR
VERSION:2.0
PRODID:-//www.rmdc.net//NONSGML kigkonsult.se iCalcreator 2.30.10//
CALSCALE:GREGORIAN
METHOD:PUBLISH
UID:6aef42c0-88cc-4cbc-8188-d40efae0dcf9
X-WR-CALDESC:
X-WR-RELCALID:b9df2184157b049a768f9fd2e5961ce2
X-WR-TIMEZONE:America/Denver
BEGIN:VTIMEZONE
TZID:America/Denver
BEGIN:STANDARD
TZNAME:MST
DTSTART:20221106T020000
TZOFFSETFROM:-0600
TZOFFSETTO:-0700
RDATE:20231105T020000
RDATE:20241103T020000
END:STANDARD
BEGIN:DAYLIGHT
TZNAME:MDT
DTSTART:20230312T020000
TZOFFSETFROM:-0700
TZOFFSETTO:-0600
RDATE:20240310T020000
END:DAYLIGHT
END:VTIMEZONE
BEGIN:VEVENT
UID:d39c8110-8c89-42b0-9501-a3a8d60ce089
DTSTAMP:20260422T071332Z
DESCRIPTION:
DTSTART;TZID=America/Denver:20230601T080000
DTEND;TZID=America/Denver:20230601T093000
LOCATION:200 South Cruse\, Helena\, MT 59601 US
SUMMARY:Coffee and Rolls
END:VEVENT
END:VCALENDAR
