BEGIN:VCALENDAR
VERSION:2.0
PRODID:-//www.rmdc.net//NONSGML kigkonsult.se iCalcreator 2.30.10//
CALSCALE:GREGORIAN
METHOD:PUBLISH
UID:871625c5-4d00-4f0d-ae7a-04a1e02716ed
X-WR-CALDESC:
X-WR-RELCALID:344b853b704f69b7b4f173654a053137
X-WR-TIMEZONE:America/Denver
BEGIN:VTIMEZONE
TZID:America/Denver
BEGIN:STANDARD
TZNAME:MST
DTSTART:20221106T020000
TZOFFSETFROM:-0600
TZOFFSETTO:-0700
RDATE:20231105T020000
RDATE:20241103T020000
END:STANDARD
BEGIN:DAYLIGHT
TZNAME:MDT
DTSTART:20230312T020000
TZOFFSETFROM:-0700
TZOFFSETTO:-0600
RDATE:20240310T020000
END:DAYLIGHT
END:VTIMEZONE
BEGIN:VEVENT
UID:3633c364-d9cb-4202-b737-a862a5125cf7
DTSTAMP:20260422T071330Z
DESCRIPTION:
DTSTART;TZID=America/Denver:20230625T130000
DTEND;TZID=America/Denver:20230625T160000
LOCATION:
SUMMARY:Pinochle
END:VEVENT
END:VCALENDAR
