BEGIN:VCALENDAR
VERSION:2.0
PRODID:-//www.rmdc.net//NONSGML kigkonsult.se iCalcreator 2.30.10//
CALSCALE:GREGORIAN
METHOD:PUBLISH
UID:d6b2bfb5-473c-4bc7-a865-fd7e4317b09b
X-WR-CALDESC:
X-WR-RELCALID:b25aa112c981745815b17920cc4d3903
X-WR-TIMEZONE:America/Denver
BEGIN:VTIMEZONE
TZID:America/Denver
BEGIN:STANDARD
TZNAME:MST
DTSTART:20221106T020000
TZOFFSETFROM:-0600
TZOFFSETTO:-0700
RDATE:20231105T020000
RDATE:20241103T020000
END:STANDARD
BEGIN:DAYLIGHT
TZNAME:MDT
DTSTART:20230312T020000
TZOFFSETFROM:-0700
TZOFFSETTO:-0600
RDATE:20240310T020000
END:DAYLIGHT
END:VTIMEZONE
BEGIN:VEVENT
UID:0c1e9133-2402-48f3-8f20-ce55d72810db
DTSTAMP:20260422T054320Z
DESCRIPTION:
DTSTART;TZID=America/Denver:20230730T130000
DTEND;TZID=America/Denver:20230730T160000
LOCATION:
SUMMARY:Pinochle
END:VEVENT
END:VCALENDAR
