BEGIN:VCALENDAR
VERSION:2.0
PRODID:-//www.rmdc.net//NONSGML kigkonsult.se iCalcreator 2.30.10//
CALSCALE:GREGORIAN
METHOD:PUBLISH
UID:82b1e54e-2c99-4642-a822-99ed09cb0aab
X-WR-CALDESC:
X-WR-RELCALID:1f256d33b092de5b5967b68a8547261a
X-WR-TIMEZONE:America/Denver
BEGIN:VTIMEZONE
TZID:America/Denver
BEGIN:STANDARD
TZNAME:MST
DTSTART:20221106T020000
TZOFFSETFROM:-0600
TZOFFSETTO:-0700
RDATE:20231105T020000
RDATE:20241103T020000
END:STANDARD
BEGIN:DAYLIGHT
TZNAME:MDT
DTSTART:20230312T020000
TZOFFSETFROM:-0700
TZOFFSETTO:-0600
RDATE:20240310T020000
END:DAYLIGHT
END:VTIMEZONE
BEGIN:VEVENT
UID:bf37b6b3-d8f5-4e10-a9c4-1647d5309d94
DTSTAMP:20260422T040653Z
DESCRIPTION:
DTSTART;TZID=America/Denver:20230827T130000
DTEND;TZID=America/Denver:20230827T160000
LOCATION:
SUMMARY:Pinochle
END:VEVENT
END:VCALENDAR
