BEGIN:VCALENDAR
VERSION:2.0
PRODID:-//www.rmdc.net//NONSGML kigkonsult.se iCalcreator 2.30.10//
CALSCALE:GREGORIAN
METHOD:PUBLISH
UID:f306224e-6e88-486a-bfb4-bac6e86bc7f0
X-WR-CALDESC:It’s important to feel comfortable and confident in this techn
 ology-heavy world\, and Mary is here for you. Mary is a volunteer with Roc
 ky’s Agency on Aging who is here to answer YOUR technology questions!  Joi
 n us on Wednesdays at the Helena Senior Center from 11:30 -12:30 for Tech 
 Time with Mary! We can’t wait to see you there!\n\nPlease note: The event 
 information listed in the May/June 2022 Voice of Experience is incorrect.
X-WR-RELCALID:0cf096e21a1c76885ad9009551415f43
X-WR-TIMEZONE:America/Denver
BEGIN:VTIMEZONE
TZID:America/Denver
BEGIN:STANDARD
TZNAME:MST
DTSTART:20221106T020000
TZOFFSETFROM:-0600
TZOFFSETTO:-0700
RDATE:20231105T020000
RDATE:20241103T020000
END:STANDARD
BEGIN:DAYLIGHT
TZNAME:MDT
DTSTART:20230312T020000
TZOFFSETFROM:-0700
TZOFFSETTO:-0600
RDATE:20240310T020000
RDATE:20250309T020000
END:DAYLIGHT
END:VTIMEZONE
BEGIN:VEVENT
UID:f1710d22-ce84-466a-9fb1-fd22a626c4f5
DTSTAMP:20260422T004628Z
DESCRIPTION:It’s important to feel comfortable and confident in this techno
 logy-heavy world\, and Mary is here for you. Mary is a volunteer with Rock
 y’s Agency on Aging who is here to answer YOUR technology questions!  Join
  us on Wednesdays at the Helena Senior Center from 11:30 -12:30 for Tech T
 ime with Mary! We can’t wait to see you there!\n\nPlease note: The event i
 nformation listed in the May/June 2022 Voice of Experience is incorrect.
DTSTART;TZID=America/Denver:20231004T000000
DTEND;TZID=America/Denver:20231004T235900
LOCATION:Helena Senior Center Dining Room
SUMMARY:Tech-Time with Mary
END:VEVENT
END:VCALENDAR
