BEGIN:VCALENDAR
VERSION:2.0
PRODID:-//www.rmdc.net//NONSGML kigkonsult.se iCalcreator 2.30.10//
CALSCALE:GREGORIAN
METHOD:PUBLISH
UID:5e413278-d97e-4be2-bbe4-b421426e0e2c
X-WR-CALDESC:
X-WR-RELCALID:6b46f61c817cd2e9398e43f30677552f
X-WR-TIMEZONE:America/Denver
BEGIN:VTIMEZONE
TZID:America/Denver
BEGIN:STANDARD
TZNAME:MST
DTSTART:20231105T020000
TZOFFSETFROM:-0600
TZOFFSETTO:-0700
RDATE:20241103T020000
END:STANDARD
BEGIN:DAYLIGHT
TZNAME:MDT
DTSTART:20230312T020000
TZOFFSETFROM:-0700
TZOFFSETTO:-0600
RDATE:20240310T020000
RDATE:20250309T020000
END:DAYLIGHT
END:VTIMEZONE
BEGIN:VEVENT
UID:3708ff9e-91ef-4f8c-ac3b-115f85462087
DTSTAMP:20260421T195722Z
DESCRIPTION:
DTSTART;TZID=America/Denver:20231203T130000
DTEND;TZID=America/Denver:20231203T160000
LOCATION:
SUMMARY:Pinochle
END:VEVENT
END:VCALENDAR
