BEGIN:VCALENDAR
VERSION:2.0
PRODID:-//www.rmdc.net//NONSGML kigkonsult.se iCalcreator 2.30.10//
CALSCALE:GREGORIAN
METHOD:PUBLISH
UID:8ddb7eb6-636d-4b78-97ce-b97d4ca30595
X-WR-CALDESC:
X-WR-RELCALID:94193af68979ca83e427103747dd9ccc
X-WR-TIMEZONE:America/Denver
BEGIN:VTIMEZONE
TZID:America/Denver
BEGIN:STANDARD
TZNAME:MST
DTSTART:20231105T020000
TZOFFSETFROM:-0600
TZOFFSETTO:-0700
RDATE:20241103T020000
END:STANDARD
BEGIN:DAYLIGHT
TZNAME:MDT
DTSTART:20230312T020000
TZOFFSETFROM:-0700
TZOFFSETTO:-0600
RDATE:20240310T020000
RDATE:20250309T020000
END:DAYLIGHT
END:VTIMEZONE
BEGIN:VEVENT
UID:65bf9ff3-50f5-4c1c-ba99-29ace0d11f01
DTSTAMP:20260421T170515Z
DESCRIPTION:
DTSTART;TZID=America/Denver:20240225T130000
DTEND;TZID=America/Denver:20240225T160000
LOCATION:
SUMMARY:Pinochle
END:VEVENT
END:VCALENDAR
