BEGIN:VCALENDAR
VERSION:2.0
PRODID:-//www.rmdc.net//NONSGML kigkonsult.se iCalcreator 2.30.10//
CALSCALE:GREGORIAN
METHOD:PUBLISH
UID:889d817b-ffa0-4cc5-b0a8-d8f9a903379c
X-WR-CALDESC:
X-WR-RELCALID:64d9d93a3c1831dec74cfd33ffd6eae3
X-WR-TIMEZONE:America/Denver
BEGIN:VTIMEZONE
TZID:America/Denver
BEGIN:STANDARD
TZNAME:MST
DTSTART:20231105T020000
TZOFFSETFROM:-0600
TZOFFSETTO:-0700
RDATE:20241103T020000
END:STANDARD
BEGIN:DAYLIGHT
TZNAME:MDT
DTSTART:20240310T020000
TZOFFSETFROM:-0700
TZOFFSETTO:-0600
RDATE:20250309T020000
END:DAYLIGHT
END:VTIMEZONE
BEGIN:VEVENT
UID:2bd93d63-4c1d-41e1-931d-163cba687643
DTSTAMP:20260421T152157Z
DESCRIPTION:
DTSTART;TZID=America/Denver:20240317T130000
DTEND;TZID=America/Denver:20240317T160000
LOCATION:
SUMMARY:Pinochle
END:VEVENT
END:VCALENDAR
