BEGIN:VCALENDAR
VERSION:2.0
PRODID:-//www.rmdc.net//NONSGML kigkonsult.se iCalcreator 2.30.10//
CALSCALE:GREGORIAN
METHOD:PUBLISH
UID:d3cb416c-eb42-464f-8d85-745ad445c5b4
X-WR-CALDESC:
X-WR-RELCALID:0c8992916a96f5bcce5f6e3fe3ee5b55
X-WR-TIMEZONE:America/Denver
BEGIN:VTIMEZONE
TZID:America/Denver
BEGIN:STANDARD
TZNAME:MST
DTSTART:20231105T020000
TZOFFSETFROM:-0600
TZOFFSETTO:-0700
RDATE:20241103T020000
END:STANDARD
BEGIN:DAYLIGHT
TZNAME:MDT
DTSTART:20240310T020000
TZOFFSETFROM:-0700
TZOFFSETTO:-0600
RDATE:20250309T020000
END:DAYLIGHT
END:VTIMEZONE
BEGIN:VEVENT
UID:4dcac987-a02d-4ad0-a7a5-e773fe47cf95
DTSTAMP:20260421T133003Z
DESCRIPTION:
DTSTART;TZID=America/Denver:20240421T130000
DTEND;TZID=America/Denver:20240421T160000
LOCATION:
SUMMARY:Pinochle
END:VEVENT
END:VCALENDAR
