BEGIN:VCALENDAR
VERSION:2.0
PRODID:-//www.rmdc.net//NONSGML kigkonsult.se iCalcreator 2.30.10//
CALSCALE:GREGORIAN
METHOD:PUBLISH
UID:1230f7a9-b164-4597-90ae-e60f536e7acd
X-WR-CALDESC:
X-WR-RELCALID:3f159e729b5d9f4261e9f81f07c66c61
X-WR-TIMEZONE:America/Denver
BEGIN:VTIMEZONE
TZID:America/Denver
BEGIN:STANDARD
TZNAME:MST
DTSTART:20231105T020000
TZOFFSETFROM:-0600
TZOFFSETTO:-0700
RDATE:20241103T020000
END:STANDARD
BEGIN:DAYLIGHT
TZNAME:MDT
DTSTART:20240310T020000
TZOFFSETFROM:-0700
TZOFFSETTO:-0600
RDATE:20250309T020000
END:DAYLIGHT
END:VTIMEZONE
BEGIN:VEVENT
UID:d39a0f32-a1ec-4295-b8a3-155687f7c5eb
DTSTAMP:20260421T133031Z
DESCRIPTION:
DTSTART;TZID=America/Denver:20240428T130000
DTEND;TZID=America/Denver:20240428T160000
LOCATION:
SUMMARY:Pinochle
END:VEVENT
END:VCALENDAR
