BEGIN:VCALENDAR
VERSION:2.0
PRODID:-//www.rmdc.net//NONSGML kigkonsult.se iCalcreator 2.30.10//
CALSCALE:GREGORIAN
METHOD:PUBLISH
UID:4dbd9f9c-5d80-4b2b-87d4-9825ed2364c4
X-WR-CALDESC:
X-WR-RELCALID:4dbaa39900aa34e3d6ef0419fbadfa69
X-WR-TIMEZONE:America/Denver
BEGIN:VTIMEZONE
TZID:America/Denver
BEGIN:STANDARD
TZNAME:MST
DTSTART:20231105T020000
TZOFFSETFROM:-0600
TZOFFSETTO:-0700
RDATE:20241103T020000
RDATE:20251102T020000
END:STANDARD
BEGIN:DAYLIGHT
TZNAME:MDT
DTSTART:20240310T020000
TZOFFSETFROM:-0700
TZOFFSETTO:-0600
RDATE:20250309T020000
END:DAYLIGHT
END:VTIMEZONE
BEGIN:VEVENT
UID:09f3c753-0b03-42fc-8710-37f1f2378e25
DTSTAMP:20260421T102655Z
DESCRIPTION:
DTSTART;TZID=America/Denver:20240630T130000
DTEND;TZID=America/Denver:20240630T160000
LOCATION:
SUMMARY:Pinochle
END:VEVENT
END:VCALENDAR
