BEGIN:VCALENDAR
VERSION:2.0
PRODID:-//www.rmdc.net//NONSGML kigkonsult.se iCalcreator 2.30.10//
CALSCALE:GREGORIAN
METHOD:PUBLISH
UID:4b22ffdc-f736-437a-a656-368de616d394
X-WR-CALDESC:
X-WR-RELCALID:0f949425bfab9dfbd76c08d537b7500b
X-WR-TIMEZONE:America/Denver
BEGIN:VTIMEZONE
TZID:America/Denver
BEGIN:STANDARD
TZNAME:MST
DTSTART:20231105T020000
TZOFFSETFROM:-0600
TZOFFSETTO:-0700
RDATE:20241103T020000
RDATE:20251102T020000
END:STANDARD
BEGIN:DAYLIGHT
TZNAME:MDT
DTSTART:20240310T020000
TZOFFSETFROM:-0700
TZOFFSETTO:-0600
RDATE:20250309T020000
END:DAYLIGHT
END:VTIMEZONE
BEGIN:VEVENT
UID:2de9a2b6-a892-4f8f-bfc2-655f9931f6b0
DTSTAMP:20260421T085045Z
DESCRIPTION:
DTSTART;TZID=America/Denver:20240728T130000
DTEND;TZID=America/Denver:20240728T160000
LOCATION:
SUMMARY:Pinochle
END:VEVENT
END:VCALENDAR
