BEGIN:VCALENDAR
VERSION:2.0
PRODID:-//www.rmdc.net//NONSGML kigkonsult.se iCalcreator 2.30.10//
CALSCALE:GREGORIAN
METHOD:PUBLISH
UID:91875c27-9958-44a0-8312-765efc513ca5
X-WR-CALDESC:
X-WR-RELCALID:c120a67846d041b1cf2f9f4aa842def9
X-WR-TIMEZONE:America/Denver
BEGIN:VTIMEZONE
TZID:America/Denver
BEGIN:STANDARD
TZNAME:MST
DTSTART:20231105T020000
TZOFFSETFROM:-0600
TZOFFSETTO:-0700
RDATE:20241103T020000
RDATE:20251102T020000
END:STANDARD
BEGIN:DAYLIGHT
TZNAME:MDT
DTSTART:20240310T020000
TZOFFSETFROM:-0700
TZOFFSETTO:-0600
RDATE:20250309T020000
END:DAYLIGHT
END:VTIMEZONE
BEGIN:VEVENT
UID:860a2d77-199d-45a3-8390-b04cc8d19905
DTSTAMP:20260421T090216Z
DESCRIPTION:
DTSTART;TZID=America/Denver:20240804T130000
DTEND;TZID=America/Denver:20240804T160000
LOCATION:
SUMMARY:Pinochle
END:VEVENT
END:VCALENDAR
