BEGIN:VCALENDAR
VERSION:2.0
PRODID:-//www.rmdc.net//NONSGML kigkonsult.se iCalcreator 2.30.10//
CALSCALE:GREGORIAN
METHOD:PUBLISH
UID:ddfc0235-da31-469c-8a99-a961dded7463
X-WR-CALDESC:
X-WR-RELCALID:bebd8998a882ada5969a09f2b786dd9e
X-WR-TIMEZONE:America/Denver
BEGIN:VTIMEZONE
TZID:America/Denver
BEGIN:STANDARD
TZNAME:MST
DTSTART:20251102T020000
TZOFFSETFROM:-0600
TZOFFSETTO:-0700
RDATE:20261101T020000
END:STANDARD
BEGIN:DAYLIGHT
TZNAME:MDT
DTSTART:20250309T020000
TZOFFSETFROM:-0700
TZOFFSETTO:-0600
RDATE:20260308T020000
RDATE:20270314T020000
END:DAYLIGHT
END:VTIMEZONE
BEGIN:VEVENT
UID:4fd08220-5a49-41d4-ba73-10e015325c6d
DTSTAMP:20260426T032335Z
DESCRIPTION:
DTSTART;TZID=America/Denver:20251202T130000
DTEND;TZID=America/Denver:20251202T160000
LOCATION:
SUMMARY:Pinochle
END:VEVENT
END:VCALENDAR
