BEGIN:VCALENDAR
VERSION:2.0
PRODID:-//www.rmdc.net//NONSGML kigkonsult.se iCalcreator 2.30.10//
CALSCALE:GREGORIAN
METHOD:PUBLISH
UID:37d64724-5045-4116-aa67-eb233ccf5763
X-WR-CALDESC:
X-WR-RELCALID:5ead8e33e5064728724e2933b7db7c22
X-WR-TIMEZONE:America/Denver
BEGIN:VTIMEZONE
TZID:America/Denver
BEGIN:STANDARD
TZNAME:MST
DTSTART:20251102T020000
TZOFFSETFROM:-0600
TZOFFSETTO:-0700
RDATE:20261101T020000
END:STANDARD
BEGIN:DAYLIGHT
TZNAME:MDT
DTSTART:20250309T020000
TZOFFSETFROM:-0700
TZOFFSETTO:-0600
RDATE:20260308T020000
RDATE:20270314T020000
END:DAYLIGHT
END:VTIMEZONE
BEGIN:VEVENT
UID:6c6a6c56-1564-4f8c-beeb-e216118a55d9
DTSTAMP:20260426T031932Z
DESCRIPTION:
DTSTART;TZID=America/Denver:20251216T130000
DTEND;TZID=America/Denver:20251216T150000
LOCATION:Rocky Neighborhood Center Dance Floor
SUMMARY:Bridge
END:VEVENT
END:VCALENDAR
