BEGIN:VCALENDAR
VERSION:2.0
PRODID:-//www.rmdc.net//NONSGML kigkonsult.se iCalcreator 2.30.10//
CALSCALE:GREGORIAN
METHOD:PUBLISH
UID:96764b5a-ea6b-41d3-9f42-672b60cc5041
X-WR-CALDESC:
X-WR-RELCALID:58de6a6fee09961034f7c57ac2284aaf
X-WR-TIMEZONE:America/Denver
BEGIN:VTIMEZONE
TZID:America/Denver
BEGIN:STANDARD
TZNAME:MST
DTSTART:20251102T020000
TZOFFSETFROM:-0600
TZOFFSETTO:-0700
RDATE:20261101T020000
END:STANDARD
BEGIN:DAYLIGHT
TZNAME:MDT
DTSTART:20250309T020000
TZOFFSETFROM:-0700
TZOFFSETTO:-0600
RDATE:20260308T020000
RDATE:20270314T020000
END:DAYLIGHT
END:VTIMEZONE
BEGIN:VEVENT
UID:3d4bdad2-eaab-41fb-b486-d3103f5e1125
DTSTAMP:20260426T032359Z
DESCRIPTION:
DTSTART;TZID=America/Denver:20251216T130000
DTEND;TZID=America/Denver:20251216T160000
LOCATION:
SUMMARY:Pinochle
END:VEVENT
END:VCALENDAR
