BEGIN:VCALENDAR
VERSION:2.0
PRODID:-//www.rmdc.net//NONSGML kigkonsult.se iCalcreator 2.30.10//
CALSCALE:GREGORIAN
METHOD:PUBLISH
UID:79f9452d-4b40-4b00-8528-eb80473400bd
X-WR-CALDESC:Join us for a gentle exercise class!
X-WR-RELCALID:728ac3861a776175fa18dd3b66e43259
X-WR-TIMEZONE:America/Denver
BEGIN:VTIMEZONE
TZID:America/Denver
BEGIN:STANDARD
TZNAME:MST
DTSTART:20251102T020000
TZOFFSETFROM:-0600
TZOFFSETTO:-0700
RDATE:20261101T020000
END:STANDARD
BEGIN:DAYLIGHT
TZNAME:MDT
DTSTART:20250309T020000
TZOFFSETFROM:-0700
TZOFFSETTO:-0600
RDATE:20260308T020000
RDATE:20270314T020000
END:DAYLIGHT
END:VTIMEZONE
BEGIN:VEVENT
UID:3bb3187d-0362-449c-ab74-dd7b3989717b
DTSTAMP:20260426T032111Z
DESCRIPTION:Join us for a gentle exercise class!
DTSTART;TZID=America/Denver:20251217T103000
DTEND;TZID=America/Denver:20251217T110000
LOCATION:200 South Cruse\, Helena\, MT 59601 US
SUMMARY:Chi Gong
END:VEVENT
END:VCALENDAR
