BEGIN:VCALENDAR
VERSION:2.0
PRODID:-//www.rmdc.net//NONSGML kigkonsult.se iCalcreator 2.30.10//
CALSCALE:GREGORIAN
METHOD:PUBLISH
UID:bd3c3219-203f-414c-ad0e-c95ded917b04
X-WR-CALDESC:
X-WR-RELCALID:158ad3a0655e9f8d07147c40994ce85e
X-WR-TIMEZONE:America/Denver
BEGIN:VTIMEZONE
TZID:America/Denver
BEGIN:STANDARD
TZNAME:MST
DTSTART:20251102T020000
TZOFFSETFROM:-0600
TZOFFSETTO:-0700
RDATE:20261101T020000
END:STANDARD
BEGIN:DAYLIGHT
TZNAME:MDT
DTSTART:20250309T020000
TZOFFSETFROM:-0700
TZOFFSETTO:-0600
RDATE:20260308T020000
RDATE:20270314T020000
END:DAYLIGHT
END:VTIMEZONE
BEGIN:VEVENT
UID:ca74c471-de01-4b39-a986-6133c5ef7ea0
DTSTAMP:20260426T020459Z
DESCRIPTION:
DTSTART;TZID=America/Denver:20260120T130000
DTEND;TZID=America/Denver:20260120T160000
LOCATION:
SUMMARY:Pinochle
END:VEVENT
END:VCALENDAR
