BEGIN:VCALENDAR
VERSION:2.0
PRODID:-//www.rmdc.net//NONSGML kigkonsult.se iCalcreator 2.30.10//
CALSCALE:GREGORIAN
METHOD:PUBLISH
UID:01b76201-5ce1-496f-bab5-bd7c6d2ec3d8
X-WR-CALDESC:
X-WR-RELCALID:f0b32e2094c919dda41c55d37815f248
X-WR-TIMEZONE:America/Denver
BEGIN:VTIMEZONE
TZID:America/Denver
BEGIN:STANDARD
TZNAME:MST
DTSTART:20251102T020000
TZOFFSETFROM:-0600
TZOFFSETTO:-0700
RDATE:20261101T020000
END:STANDARD
BEGIN:DAYLIGHT
TZNAME:MDT
DTSTART:20250309T020000
TZOFFSETFROM:-0700
TZOFFSETTO:-0600
RDATE:20260308T020000
RDATE:20270314T020000
END:DAYLIGHT
END:VTIMEZONE
BEGIN:VEVENT
UID:60cce602-e858-4638-a9fe-d90d78d0cf62
DTSTAMP:20260426T004503Z
DESCRIPTION:
DTSTART;TZID=America/Denver:20260217T130000
DTEND;TZID=America/Denver:20260217T160000
LOCATION:
SUMMARY:Pinochle
END:VEVENT
END:VCALENDAR
