BEGIN:VCALENDAR
VERSION:2.0
PRODID:-//www.rmdc.net//NONSGML kigkonsult.se iCalcreator 2.30.10//
CALSCALE:GREGORIAN
METHOD:PUBLISH
UID:8617a13f-a202-4fb4-9425-0d856fd05010
X-WR-CALDESC:Join us for a gentle exercise class!
X-WR-RELCALID:e4088b95cc8bd1c26aaf7b83866f4fc3
X-WR-TIMEZONE:America/Denver
BEGIN:VTIMEZONE
TZID:America/Denver
BEGIN:STANDARD
TZNAME:MST
DTSTART:20251102T020000
TZOFFSETFROM:-0600
TZOFFSETTO:-0700
RDATE:20261101T020000
END:STANDARD
BEGIN:DAYLIGHT
TZNAME:MDT
DTSTART:20250309T020000
TZOFFSETFROM:-0700
TZOFFSETTO:-0600
RDATE:20260308T020000
RDATE:20270314T020000
END:DAYLIGHT
END:VTIMEZONE
BEGIN:VEVENT
UID:1610af93-9008-489f-a093-3178623a444d
DTSTAMP:20260426T004250Z
DESCRIPTION:Join us for a gentle exercise class!
DTSTART;TZID=America/Denver:20260218T103000
DTEND;TZID=America/Denver:20260218T110000
LOCATION:200 South Cruse\, Helena\, MT 59601 US
SUMMARY:Chi Gong
END:VEVENT
END:VCALENDAR
